BEGIN:VCALENDAR
VERSION:2.0
PRODID:-//Tukios.com/
BEGIN:VEVENT
UID:f4fa9164-964e-4654-bc39-5d582e42bcb4@www.serenicare.com
DTSTAMP:20260424T011722Z
DTSTART:20260429T160000Z
DTEND:20260429T164500Z
SUMMARY:Visitation
DESCRIPTION:
URL:https://www.serenicare.com/obituaries/andrea-mansfield
LOCATION:Canyon View Stake Center 560 East 800 North  Orem UT 84097
GEO:40.3118185;-111.6819425
END:VEVENT
END:VCALENDAR