BEGIN:VCALENDAR
VERSION:2.0
PRODID:-//Tukios.com/
BEGIN:VEVENT
UID:a53ba3ff-983b-44e4-80e7-d330a5e2a1e9@www.serenicare.com
DTSTAMP:20260424T011722Z
DTSTART:20260429T170000Z
DTEND:20260429T180000Z
SUMMARY:Funeral Service
DESCRIPTION:
URL:https://www.serenicare.com/obituaries/andrea-mansfield
LOCATION:Canyon View Stake Center 560 East 800 North  Orem UT 84097
GEO:40.3118185;-111.6819425
END:VEVENT
END:VCALENDAR